BEGIN:VCALENDAR
VERSION:2.0
PRODID:-//YWCA Darien/Norwalk - ECPv6.15.18//NONSGML v1.0//EN
CALSCALE:GREGORIAN
METHOD:PUBLISH
X-WR-CALNAME:YWCA Darien/Norwalk
X-ORIGINAL-URL:https://ywcadn.org
X-WR-CALDESC:Events for YWCA Darien/Norwalk
REFRESH-INTERVAL;VALUE=DURATION:PT1H
X-Robots-Tag:noindex
X-PUBLISHED-TTL:PT1H
BEGIN:VTIMEZONE
TZID:America/New_York
BEGIN:DAYLIGHT
TZOFFSETFROM:-0500
TZOFFSETTO:-0400
TZNAME:EDT
DTSTART:20220313T070000
END:DAYLIGHT
BEGIN:STANDARD
TZOFFSETFROM:-0400
TZOFFSETTO:-0500
TZNAME:EST
DTSTART:20221106T060000
END:STANDARD
BEGIN:DAYLIGHT
TZOFFSETFROM:-0500
TZOFFSETTO:-0400
TZNAME:EDT
DTSTART:20230312T070000
END:DAYLIGHT
BEGIN:STANDARD
TZOFFSETFROM:-0400
TZOFFSETTO:-0500
TZNAME:EST
DTSTART:20231105T060000
END:STANDARD
BEGIN:DAYLIGHT
TZOFFSETFROM:-0500
TZOFFSETTO:-0400
TZNAME:EDT
DTSTART:20240310T070000
END:DAYLIGHT
BEGIN:STANDARD
TZOFFSETFROM:-0400
TZOFFSETTO:-0500
TZNAME:EST
DTSTART:20241103T060000
END:STANDARD
BEGIN:DAYLIGHT
TZOFFSETFROM:-0500
TZOFFSETTO:-0400
TZNAME:EDT
DTSTART:20250309T070000
END:DAYLIGHT
BEGIN:STANDARD
TZOFFSETFROM:-0400
TZOFFSETTO:-0500
TZNAME:EST
DTSTART:20251102T060000
END:STANDARD
END:VTIMEZONE
BEGIN:VEVENT
DTSTART;TZID=America/New_York:20240430T183000
DTEND;TZID=America/New_York:20240430T200000
DTSTAMP:20260423T081616
CREATED:20240314T172006Z
LAST-MODIFIED:20240411T140453Z
UID:33955-1714501800-1714507200@ywcadn.org
SUMMARY:Newcomers Winetasting
DESCRIPTION:Join us for winetasting at the loft\, The Town Cellar in Darien.  Tasting will include a welcome drink\, 5 tasting wines and a selection of cheese/charcuterie/crudité. \n10% off any wines purchased that evening.
URL:https://ywcadn.org/event/newcomers-winetasting/
LOCATION:Town Cellar\, 1089 Boston Post Rd\, Darien\, CT\, 06820
CATEGORIES:Newcomers Club
ATTACH;FMTTYPE=image/png:https://ywcadn.org/wp-content/uploads/2024/03/Newcomers-Winetasters-April-2024.png
ORGANIZER;CN="Newcomers Club":MAILTO:newcomers@ywcadn.org
END:VEVENT
BEGIN:VEVENT
DTSTART;TZID=America/New_York:20240404T190000
DTEND;TZID=America/New_York:20240404T220000
DTSTAMP:20260423T081616
CREATED:20240314T162351Z
LAST-MODIFIED:20240402T135214Z
UID:33946-1712257200-1712268000@ywcadn.org
SUMMARY:Newcomers Pasta Making Class & Artisan Dinner
DESCRIPTION:Non-alcoholic beverages will be provided. BYOB if you would like your drink of choice! \nGrab a friend or come make new friends at this fun\, intimate\, one of a kind experience.
URL:https://ywcadn.org/event/newcomers-pasta-making-class-dinner/
LOCATION:Browne & Co.\, 865 Post Rd\, Darien\, CT\, 06820\, United States
CATEGORIES:Newcomers Club
ATTACH;FMTTYPE=image/png:https://ywcadn.org/wp-content/uploads/2024/03/with-Acqua-Farina-3.png
ORGANIZER;CN="Newcomers Club":MAILTO:newcomers@ywcadn.org
END:VEVENT
BEGIN:VEVENT
DTSTART;TZID=America/New_York:20240314T160000
DTEND;TZID=America/New_York:20240314T164500
DTSTAMP:20260423T081616
CREATED:20240301T000528Z
LAST-MODIFIED:20240304T150352Z
UID:33794-1710432000-1710434700@ywcadn.org
SUMMARY:YWCA Member Only Newcomers Playdate With Scribble Dabbles
DESCRIPTION:Join us for a playdate with Scribble Dabble Curious Creators. This playdate is designed for children ages 1-4 years with a focus on child-led art & creative play! \nMember Event\, discounted YWCA member rate is $20/child \nRegister now\, Space is limited!
URL:https://ywcadn.org/event/newcomers-playdate-with-scribble-dabbles/
LOCATION:YWCA Darien Norwalk\, 49 Old Kings Hwy N\, Darien\, CT\, 06820
CATEGORIES:Newcomers Club
ATTACH;FMTTYPE=image/png:https://ywcadn.org/wp-content/uploads/2024/02/Scribble-Dabble-.png
ORGANIZER;CN="Newcomers Club":MAILTO:newcomers@ywcadn.org
END:VEVENT
BEGIN:VEVENT
DTSTART;TZID=America/New_York:20231204T160000
DTEND;TZID=America/New_York:20231204T180000
DTSTAMP:20260423T081616
CREATED:20231120T155204Z
LAST-MODIFIED:20231120T180617Z
UID:4753-1701705600-1701712800@ywcadn.org
SUMMARY:Santa & Holiday Craft at Mather (Afternoon Playdate)
DESCRIPTION:Ho ho ho! Join us for some festive fun at Mather Homestead where we will have holiday crafts and a visit from Santa!
URL:https://ywcadn.org/event/santa-holiday-craft-at-mather-afternoon-playdate/
LOCATION:Mather Homestead Barn\, 19 Stephen Mather Road\, Darien\, CT\, 06820
CATEGORIES:Newcomers Club
ATTACH;FMTTYPE=image/png:https://ywcadn.org/wp-content/uploads/2023/11/HP-Newcomers-YWCA-Santa-at-Mather-4.png
ORGANIZER;CN="Newcomers Club":MAILTO:newcomers@ywcadn.org
END:VEVENT
BEGIN:VEVENT
DTSTART;TZID=America/New_York:20231128T190000
DTEND;TZID=America/New_York:20231128T200000
DTSTAMP:20260423T081616
CREATED:20231102T205944Z
LAST-MODIFIED:20231127T194901Z
UID:4646-1701198000-1701201600@ywcadn.org
SUMMARY:Holiday Wreath Making
DESCRIPTION:Deck the halls! Join our Beyond Newcomers & Newcomers clubs at this hands-on\, creative wreath decorating workshop. Wine and nibbles are included\, as well as the tools\, materials\, and instructions.
URL:https://ywcadn.org/event/holiday-wreath-making/
LOCATION:Nielson’s Florist\, 1405 Post Road\, Darien\, CT\, 06820
CATEGORIES:Beyond Newcomers Club,Newcomers Club
ATTACH;FMTTYPE=image/png:https://ywcadn.org/wp-content/uploads/2023/11/HH-Nov-30-2.png
ORGANIZER;CN="YWCA Beyond Newcomers":MAILTO:beyondnewcomers@ywcadn.org
END:VEVENT
BEGIN:VEVENT
DTSTART;TZID=America/New_York:20231102T193000
DTEND;TZID=America/New_York:20231102T213000
DTSTAMP:20260423T081616
CREATED:20231030T171417Z
LAST-MODIFIED:20231030T173353Z
UID:4618-1698953400-1698960600@ywcadn.org
SUMMARY:YWCA Newcomers Happy Hour with Salt & Sweat
DESCRIPTION:Join us for a happy hour sip and shop at Salt & Sweat in the new Darien Commons.  A 50% discount will be applied to most first time services if you book that evening.  There will also be a membership raffle. Use the SignupGenius link below to  register. \nBring a friend\, come make new friends\, we hope to see you there!
URL:https://ywcadn.org/event/thirsty-thursday-newcomers-season-kick-off-happy-hour-copy/
LOCATION:Salt & Sweat\, Darien Commons\, 144 Heights Road\, Darien\, CT\, 06820\, United States
CATEGORIES:Newcomers Club,Social Event
ATTACH;FMTTYPE=image/png:https://ywcadn.org/wp-content/uploads/2023/10/HH-Nov-17-1.png
ORGANIZER;CN="Newcomers Club":MAILTO:newcomers@ywcadn.org
END:VEVENT
BEGIN:VEVENT
DTSTART;TZID=America/New_York:20231006T160000
DTEND;TZID=America/New_York:20231006T164500
DTSTAMP:20260423T081616
CREATED:20230927T183248Z
LAST-MODIFIED:20230928T171510Z
UID:4127-1696608000-1696610700@ywcadn.org
SUMMARY:Playdate at the Nature Center
DESCRIPTION:Member Only Event: Parent must have an active YWCA Membership.  \nCome and immerse yourself in the wonders of the natural world with your loved ones at the Darien Nature Center’s Nature Playdate.  During the Animal Program & Hike you will learn about the Darien Nature Center’s resident animals\, their habitats\, behaviors\, and unique characteristics. \nIt’s a fantastic opportunity to connect with nature\, make new friends\, and create cherished memories. \nMore info on preparing for the event.
URL:https://ywcadn.org/event/playdate-at-the-nature-center/
LOCATION:Darien Nature Center\, 120 Brookside Rd\, Darien\, CT\, 06820
CATEGORIES:Newcomers Club,Playdate
ATTACH;FMTTYPE=image/png:https://ywcadn.org/wp-content/uploads/2023/09/YWCA-Newcomers-Club-Playgroup-Event-Header.png
ORGANIZER;CN="Newcomers Club":MAILTO:newcomers@ywcadn.org
END:VEVENT
BEGIN:VEVENT
DTSTART;TZID=America/New_York:20231005T193000
DTEND;TZID=America/New_York:20231005T220000
DTSTAMP:20260423T081616
CREATED:20230928T175401Z
LAST-MODIFIED:20231005T175310Z
UID:4185-1696534200-1696543200@ywcadn.org
SUMMARY:Thirsty Thursday - Newcomers Season Kick Off Happy Hour
DESCRIPTION:Newcomers will be hosting their first happy hour Thursday\, October 4th at Seamore’s in the Darien Commons.  Spouses\, partners welcome. \nMust be 21+ \n  \nWe want everyone to have a great time while staying safe. Please remember to drink responsibly\, know your limits\, and always have a plan for getting home safely. Our priority is your well-being\, so let’s make sure we all have a fantastic and responsible time together. Cheers!
URL:https://ywcadn.org/event/thirsty-thursday-newcomers-season-kick-off-happy-hour/
LOCATION:Lykos Taverna\, 110 Heights Road\, Darien\, CT\, 06820\, United States
CATEGORIES:Newcomers Club,Social Event
ATTACH;FMTTYPE=image/png:https://ywcadn.org/wp-content/uploads/2023/09/YWCA-Event-Headers-3.png
ORGANIZER;CN="Newcomers Club":MAILTO:newcomers@ywcadn.org
END:VEVENT
END:VCALENDAR