BEGIN:VCALENDAR
VERSION:2.0
PRODID:-//YWCA Darien/Norwalk - ECPv6.15.18//NONSGML v1.0//EN
CALSCALE:GREGORIAN
METHOD:PUBLISH
X-ORIGINAL-URL:https://ywcadn.org
X-WR-CALDESC:Events for YWCA Darien/Norwalk
REFRESH-INTERVAL;VALUE=DURATION:PT1H
X-Robots-Tag:noindex
X-PUBLISHED-TTL:PT1H
BEGIN:VTIMEZONE
TZID:America/New_York
BEGIN:DAYLIGHT
TZOFFSETFROM:-0500
TZOFFSETTO:-0400
TZNAME:EDT
DTSTART:20220313T070000
END:DAYLIGHT
BEGIN:STANDARD
TZOFFSETFROM:-0400
TZOFFSETTO:-0500
TZNAME:EST
DTSTART:20221106T060000
END:STANDARD
BEGIN:DAYLIGHT
TZOFFSETFROM:-0500
TZOFFSETTO:-0400
TZNAME:EDT
DTSTART:20230312T070000
END:DAYLIGHT
BEGIN:STANDARD
TZOFFSETFROM:-0400
TZOFFSETTO:-0500
TZNAME:EST
DTSTART:20231105T060000
END:STANDARD
BEGIN:DAYLIGHT
TZOFFSETFROM:-0500
TZOFFSETTO:-0400
TZNAME:EDT
DTSTART:20240310T070000
END:DAYLIGHT
BEGIN:STANDARD
TZOFFSETFROM:-0400
TZOFFSETTO:-0500
TZNAME:EST
DTSTART:20241103T060000
END:STANDARD
BEGIN:DAYLIGHT
TZOFFSETFROM:-0500
TZOFFSETTO:-0400
TZNAME:EDT
DTSTART:20250309T070000
END:DAYLIGHT
BEGIN:STANDARD
TZOFFSETFROM:-0400
TZOFFSETTO:-0500
TZNAME:EST
DTSTART:20251102T060000
END:STANDARD
BEGIN:DAYLIGHT
TZOFFSETFROM:-0500
TZOFFSETTO:-0400
TZNAME:EDT
DTSTART:20260308T070000
END:DAYLIGHT
BEGIN:STANDARD
TZOFFSETFROM:-0400
TZOFFSETTO:-0500
TZNAME:EST
DTSTART:20261101T060000
END:STANDARD
END:VTIMEZONE
BEGIN:VEVENT
DTSTART;TZID=America/New_York:20251216T180000
DTEND;TZID=America/New_York:20251216T190000
DTSTAMP:20260422T061533
CREATED:20251124T185120Z
LAST-MODIFIED:20251125T173334Z
UID:40851-1765908000-1765911600@ywcadn.org
SUMMARY:From Saver to Investor: A Free Wealth-Building Workshop for Women
DESCRIPTION:Many women are strong savers — but hesitant or unsure about how to invest.\nThis 60-minute workshop helps bridge that gap by offering simple\, empowering steps to begin building long-term wealth with clarity and confidence. \nParticipants will learn: \n How to shift limiting beliefs that hold women back financially \n The 3 numbers every woman needs to know to start investing with confidence \n Beginner-friendly ways to start investing\, even with small amounts \n Practical tools to make confident\, informed financial decisions \nPerfect for women who: \n• Want to feel more confident managing and growing their money \n• Are ready to take control of their financial futures \n• Are beginners who want to start investing but don’t know where to begin \nJoin us for an empowering\, accessible\, and judgment-free session designed to help women build real financial confidence — and take the first step toward long-term wealth. \nDisclaimer: This workshop is educational and meant to help you feel more confident with money. It isn’t personalized financial\, legal\, or tax advice. For advice specific to your situation\, please reach out to a licensed professional.
URL:https://ywcadn.org/event/from-saver-to-investor-a-free-wealth-building-workshop-for-women/
LOCATION:YWCA Darien Norwalk\, 49 Old Kings Hwy N\, Darien\, CT\, 06820
CATEGORIES:Financial Literacy,Mission Aligned,YWCA All
ATTACH;FMTTYPE=image/png:https://ywcadn.org/wp-content/uploads/2025/11/IN-PERSON-EVENT.png
END:VEVENT
BEGIN:VEVENT
DTSTART;TZID=America/New_York:20251013T053000
DTEND;TZID=America/New_York:20251015T100000
DTSTAMP:20260422T061533
CREATED:20250911T153543Z
LAST-MODIFIED:20251015T153505Z
UID:39842-1760333400-1760522400@ywcadn.org
SUMMARY:Free\, 6-Week Economic Empowerment Program
DESCRIPTION:Thursdays\, Beginning October 16 | 5:30 pm-7:30pm | YWCA Darien/Norwalk \nFollowing a successful Spring relaunch\, our Economic Empowerment Program returns Thursday\, October 16th\, with a brand-new FREE\, 6-week series focused exclusively on financial literacy. This session is designed to help participants build financial confidence\, understand core money management principles\, and take control of their long-term financial security. \nThis program is ideal for women in transition\, seeking greater financial clarity or building long term security\, and will include: \n\n\nFinancial literacy workshops \n\n\nSmall-group peer learning and support \n\n\nTailored guidance from experienced financial professionals \n\n\nSpace is limited—secure your spot today! \nClick HERE to learn more and register.
URL:https://ywcadn.org/event/economic-empowerment-program-fall2025/
LOCATION:YWCA Darien Norwalk\, 49 Old Kings Hwy N\, Darien\, CT\, 06820
CATEGORIES:Financial Literacy,Mission Aligned
ATTACH;FMTTYPE=image/png:https://ywcadn.org/wp-content/uploads/2025/09/Economic-Empowerment-Program-Graphics-17.png
END:VEVENT
BEGIN:VEVENT
DTSTART;VALUE=DATE:20250311
DTEND;VALUE=DATE:20250509
DTSTAMP:20260422T061533
CREATED:20250311T181246Z
LAST-MODIFIED:20250402T154931Z
UID:38000-1741651200-1746748799@ywcadn.org
SUMMARY:Economic Empowerment Program
DESCRIPTION:Free\, 8-Week Economic Empowerment Program\nWednesdays\, Beginning April 2nd | 10:00 am-12:00pm | Norwalk Chamber of Commerce \nYWCA Darien/Norwalk is proud to launch our newly established Economic Empowerment Program\, a free\, 8-week series designed to help women build or advance a career\, and achieve financial security. \nWhether you’re navigating a career transition\, re-entering the workforce\, seeking financial independence after a life change\, or simply looking to upskill\, this initiative provides the foundational tools and resources to help you move forward with confidence. \nThroughout the program\, participants will gain essential skills in digital proficiency\, job readiness\, financial literacy\, and workplace success with each week focusing on a specific area. \nSpace is limited—secure your spot today! \nClick HERE to learn more and register.
URL:https://ywcadn.org/event/economic-empowerment-program/
LOCATION:CT
CATEGORIES:Financial Literacy,Mission Aligned
ATTACH;FMTTYPE=image/png:https://ywcadn.org/wp-content/uploads/2025/03/Economic-Empowerment-Program-Graphics.png
END:VEVENT
BEGIN:VEVENT
DTSTART;TZID=America/New_York:20240125T120000
DTEND;TZID=America/New_York:20240125T130000
DTSTAMP:20260422T061533
CREATED:20231211T225641Z
LAST-MODIFIED:20231212T170508Z
UID:4846-1706184000-1706187600@ywcadn.org
SUMMARY:Women & Wealth Bootcamp: 6 Tips for Financial Fitness with Caroline Wetzel
DESCRIPTION:Life’s twists and turns often prompt us to reevaluate our financial strategies. Whether it’s a professional shift\, retirement\, personal loss\, or adjusting to an empty nest\, this bootcamp series addresses the unique needs of women facing these changes. Recognizing the evolving social landscape and the likelihood of being solely responsible for finances\, we aim to provide tailored insights and solutions. \nObjectives of the Session: \n\nIntroduce Six Financial Strategies: Learn key financial strategies that every woman should be aware of.\nReal-Life Success Stories: Discover how other women have utilized these techniques to optimize their financial health\, moving from “financial now” to “financial wow.”\n\nKey Takeaways: \n\nBeyond Today’s Budget: Explore spending\, savings\, and debt management strategies applicable at every age.\nInvesting in You: Gain insights into prioritizing your investments for a secure financial future.\nPlanning for a Fulfilling Future: Learn how to set yourself up for financial success and freedom\, ensuring protection for what matters most.\n\nThis Women & Wealth Bootcamp promises to be an engaging and informative session\, providing you with the tools to navigate financial changes confidently. Join us for a day of empowerment\, education\, and networking. \n  \nAbout the Presenter \nCaroline Wetzel\, CFP® advises clients how to use their wealth wisely as they navigate changes like retirement\, longevity\, and life after loss of a loved one.  She has helped thousands of women improve their relationships with money.    Why women?  Women now control more than 60% of personal wealth in the US.  And Americans are living longer than ever\, with women typically living longer than men.  With volatile markets and health care costs rising rapidly\, women have unique financial needs requiring special attention. \nCaroline is a Vice President\, Private Wealth Advisor with Procyon Partners\, LLC (“Procyon Partners”) a registered investment advisor. Procyon Partners provides investment advisory and related services for clients nationally. Procyon Partners will maintain all applicable registration and licenses as required by the various states in which it conducts business. For additional information\, please visit our website at http://www.procyonpartners.net/.
URL:https://ywcadn.org/event/6-tips-for-financial-fitness/
LOCATION:CT
CATEGORIES:Financial Literacy
ATTACH;FMTTYPE=image/png:https://ywcadn.org/wp-content/uploads/2023/09/YWCA-Women-Wealth-Event-Header.png
ORGANIZER;CN="YWCA Youth Empowerment":MAILTO:tarabgiblin@gmail.com
END:VEVENT
BEGIN:VEVENT
DTSTART;TZID=America/New_York:20231026T100000
DTEND;TZID=America/New_York:20231026T110000
DTSTAMP:20260422T061533
CREATED:20230908T155554Z
LAST-MODIFIED:20240904T055347Z
UID:3903-1698314400-1698318000@ywcadn.org
SUMMARY:Women & Wealth Bootcamp: 6 Tips for Financial Fitness with Caroline Wetzel
DESCRIPTION:Ready for a fresh\, new approach to managing your money and investments?  \nCurious what it is like to let go and lean into a more satisfying financial life?  \nInterested in being part of a “safe space” with other women\, talking about personal finances? \nJoin us for our new “Women & Wealth Bootcamp” \nHosted by Caroline Wetzel\, CFP®\, this training offers practical\, jargon-free financial information for women in a judgment-free zone.  Each session is in-person\, “Vegas-style” with what’s said in the room\, staying in the room.  Caroline will share six tips for financial fitness: strategies all women should consider for growing\, protecting\, and enjoying their wealth. \nFuture “Women & Wealth” training sessions will cover: \n* Investing for today’s woman \n* Rethinking retirement: five financial planning tips for women in their 50s \n* Tips for managing new wealth\, including mistakes to avoid \nCaroline advises clients how to use their wealth wisely as they navigate changes like retirement\, longevity\, and life after loss of a loved one.  She has helped thousands of women improve their relationships with money.    Why women?  Women now control more than 60% of personal wealth in the US.  And Americans are living longer than ever\, with women typically living longer than men.  With volatile markets and health care costs rising rapidly\, women have unique financial needs requiring special attention. \nCaroline is a Vice President\, Private Wealth Advisor with Procyon Partners\, LLC (“Procyon Partners”) a registered investment advisor. Procyon Partners provides investment advisory and related services for clients nationally. Procyon Partners will maintain all applicable registration and licenses as required by the various states in which it conducts business. For additional information\, please visit our website at http://www.procyonpartners.net/.
URL:https://ywcadn.org/event/women-wealth-bootcamp-6-tips-for-financial-fitness-with-caroline-wetzel/
LOCATION:YWCA Darien Norwalk\, 49 Old Kings Hwy N\, Darien\, CT\, 06820
CATEGORIES:Financial Literacy
ATTACH;FMTTYPE=image/png:https://ywcadn.org/wp-content/uploads/2023/09/YWCA-Women-Wealth-Event-Header.png
ORGANIZER;CN="YWCA Youth Empowerment":MAILTO:tarabgiblin@gmail.com
END:VEVENT
END:VCALENDAR