BEGIN:VCALENDAR
VERSION:2.0
PRODID:-//YWCA Darien/Norwalk - ECPv6.15.18//NONSGML v1.0//EN
CALSCALE:GREGORIAN
METHOD:PUBLISH
X-WR-CALNAME:YWCA Darien/Norwalk
X-ORIGINAL-URL:https://ywcadn.org
X-WR-CALDESC:Events for YWCA Darien/Norwalk
REFRESH-INTERVAL;VALUE=DURATION:PT1H
X-Robots-Tag:noindex
X-PUBLISHED-TTL:PT1H
BEGIN:VTIMEZONE
TZID:America/New_York
BEGIN:DAYLIGHT
TZOFFSETFROM:-0500
TZOFFSETTO:-0400
TZNAME:EDT
DTSTART:20240310T070000
END:DAYLIGHT
BEGIN:STANDARD
TZOFFSETFROM:-0400
TZOFFSETTO:-0500
TZNAME:EST
DTSTART:20241103T060000
END:STANDARD
BEGIN:DAYLIGHT
TZOFFSETFROM:-0500
TZOFFSETTO:-0400
TZNAME:EDT
DTSTART:20250309T070000
END:DAYLIGHT
BEGIN:STANDARD
TZOFFSETFROM:-0400
TZOFFSETTO:-0500
TZNAME:EST
DTSTART:20251102T060000
END:STANDARD
BEGIN:DAYLIGHT
TZOFFSETFROM:-0500
TZOFFSETTO:-0400
TZNAME:EDT
DTSTART:20260308T070000
END:DAYLIGHT
BEGIN:STANDARD
TZOFFSETFROM:-0400
TZOFFSETTO:-0500
TZNAME:EST
DTSTART:20261101T060000
END:STANDARD
END:VTIMEZONE
BEGIN:VEVENT
DTSTART;VALUE=DATE:20250827
DTEND;VALUE=DATE:20251007
DTSTAMP:20260422T160218
CREATED:20250827T200356Z
LAST-MODIFIED:20251007T182726Z
UID:39587-1756252800-1759795199@ywcadn.org
SUMMARY:Beyond Newcomers Book Club
DESCRIPTION:To join Beyond Newcomers book club\, simply register and we’ll connect you with a group of fellow readers. Each group receives one another’s contact information and organizes meetings on their own. If registration fills beyond a comfortable size\, we’ll create multiple groups to keep discussions engaging and manageable. \nRegistration Closes 10/07/2025
URL:https://ywcadn.org/event/beyond-newcomers-book-club/
CATEGORIES:Beyond Newcomers Club
ATTACH;FMTTYPE=image/png:https://ywcadn.org/wp-content/uploads/2025/08/Draft-Beyond-Newcomers-Book-Club-Fall-2025.png
ORGANIZER;CN="YWCA Beyond Newcomers":MAILTO:beyondnewcomers@ywcadn.org
END:VEVENT
BEGIN:VEVENT
DTSTART;TZID=America/New_York:20250928T110000
DTEND;TZID=America/New_York:20250928T130000
DTSTAMP:20260422T160218
CREATED:20250820T145916Z
LAST-MODIFIED:20250926T152330Z
UID:39427-1759057200-1759064400@ywcadn.org
SUMMARY:YWCA Open House
DESCRIPTION:RSVP to join us for our Family Open House! Discover what’s new at YWCA and with our community partners while enjoying a fun-filled morning together. \nFREE Activities Include: \n\nJumpin’ Jams Music\,\nCrafts with Toddler Time’s Ms. Emily & Ms. Ty\,\nScribble Dabble Art & Play\,\nDarien School of Dance Demo Show and Crafts\nLittle Jigz\n\nSnacks & Refreshments Provided \nREGISTRATION CLOSED?  NO PROBLEM!!  STOP BY – WE LOOK FORWARD TO SEEING YOU!!
URL:https://ywcadn.org/event/ywca-open-house/
LOCATION:YWCA Darien Norwalk\, 49 Old Kings Hwy N\, Darien\, CT\, 06820
CATEGORIES:Beyond Newcomers Club,Community Event,Network of Working Women,Newcomers Club,Playdate,Social Event,YWCA All
ATTACH;FMTTYPE=image/png:https://ywcadn.org/wp-content/uploads/2025/08/9-28-25-Open-House-2.png
END:VEVENT
END:VCALENDAR