BEGIN:VCALENDAR
VERSION:2.0
PRODID:-//YWCA Darien/Norwalk - ECPv6.15.18//NONSGML v1.0//EN
CALSCALE:GREGORIAN
METHOD:PUBLISH
X-ORIGINAL-URL:https://ywcadn.org
X-WR-CALDESC:Events for YWCA Darien/Norwalk
REFRESH-INTERVAL;VALUE=DURATION:PT1H
X-Robots-Tag:noindex
X-PUBLISHED-TTL:PT1H
BEGIN:VTIMEZONE
TZID:America/New_York
BEGIN:DAYLIGHT
TZOFFSETFROM:-0500
TZOFFSETTO:-0400
TZNAME:EDT
DTSTART:20230312T070000
END:DAYLIGHT
BEGIN:STANDARD
TZOFFSETFROM:-0400
TZOFFSETTO:-0500
TZNAME:EST
DTSTART:20231105T060000
END:STANDARD
BEGIN:DAYLIGHT
TZOFFSETFROM:-0500
TZOFFSETTO:-0400
TZNAME:EDT
DTSTART:20240310T070000
END:DAYLIGHT
BEGIN:STANDARD
TZOFFSETFROM:-0400
TZOFFSETTO:-0500
TZNAME:EST
DTSTART:20241103T060000
END:STANDARD
BEGIN:DAYLIGHT
TZOFFSETFROM:-0500
TZOFFSETTO:-0400
TZNAME:EDT
DTSTART:20250309T070000
END:DAYLIGHT
BEGIN:STANDARD
TZOFFSETFROM:-0400
TZOFFSETTO:-0500
TZNAME:EST
DTSTART:20251102T060000
END:STANDARD
END:VTIMEZONE
BEGIN:VEVENT
DTSTART;TZID=America/New_York:20240813T080000
DTEND;TZID=America/New_York:20241006T170000
DTSTAMP:20260423T105232
CREATED:20240813T190145Z
LAST-MODIFIED:20241002T182205Z
UID:34736-1723536000-1728234000@ywcadn.org
SUMMARY:Book Club Registration
DESCRIPTION:YWCA offers three book clubs\, something for everyone! We’d love for you to join one or all of them and get connected to other like minded readers.  Please register below for any or all of the book clubs you’d like to join and we’ll get you connected in mid to late September. \nPlease note: our book clubs are a member benefits so please head on over to the membership page and become a member if you aren’t already! \nJoin Newcomers Book Club \nhttps://forms.gle/N9yjKaayCsDp3oZk7 \nJoin Beyond Newcomers Book Club – group will meet 1x/month in the evenings. \nhttps://forms.gle/ZwXawsUScNRFce3aA \nJoin International Book Club \nhttps://forms.gle/9dHpETYq1NV7z47w9 \n 
URL:https://ywcadn.org/event/book-club-registration/
CATEGORIES:Beyond Newcomers Club,International Club,Newcomers Club,YWCA All
ATTACH;FMTTYPE=image/png:https://ywcadn.org/wp-content/uploads/2024/08/YWCA-Book-Club-9.2024-1000-x-1000-px.png
END:VEVENT
BEGIN:VEVENT
DTSTART;TZID=America/New_York:20241012T190000
DTEND;TZID=America/New_York:20241012T213000
DTSTAMP:20260423T105232
CREATED:20240813T145638Z
LAST-MODIFIED:20241002T135603Z
UID:34714-1728759600-1728768600@ywcadn.org
SUMMARY:Social Supper Ginger's Seoul: Beyond Newcomers Member Only Event
DESCRIPTION:Please join us for the first of this new Beyond Newcomer’s series.  Social Suppers are a more intimate\, smaller group setting to get to know new people and connect in a meaningful way while enjoying delicious food. \nGinger’s Seoul is  female owned by June Seo and she who is also the head chef.  Come enjoy a wonderful Korean meal while supporting a female entrepreneur. \nTo learn more about Korean food and Ginger’s Seoul please see this article \nhttps://gingersseoul.com/ \nYour $60 per person deposit holds your space at the table.  This deposit will be applied towards your dinner and you and the attendees at dinner will split the remaining balance. \nPlease RSVP by October 10th.  No refunds will be given after October 9th. \nWe hope you can join! \n 
URL:https://ywcadn.org/event/social-supper-gingers-seoul-member-only-event/
LOCATION:Ginger’s Seoul\, 927 High Ridge Rd\, Stamford\, CT\, 06902\, United States
CATEGORIES:Beyond Newcomers Club
ATTACH;FMTTYPE=image/png:https://ywcadn.org/wp-content/uploads/2024/08/Dates-Only-BN-Social-Supper-Gingers-Seoul-10.12.2024-1.png
END:VEVENT
END:VCALENDAR