BEGIN:VCALENDAR
VERSION:2.0
PRODID:-//YWCA Darien/Norwalk - ECPv6.15.18//NONSGML v1.0//EN
CALSCALE:GREGORIAN
METHOD:PUBLISH
X-WR-CALNAME:YWCA Darien/Norwalk
X-ORIGINAL-URL:https://ywcadn.org
X-WR-CALDESC:Events for YWCA Darien/Norwalk
REFRESH-INTERVAL;VALUE=DURATION:PT1H
X-Robots-Tag:noindex
X-PUBLISHED-TTL:PT1H
BEGIN:VTIMEZONE
TZID:America/New_York
BEGIN:DAYLIGHT
TZOFFSETFROM:-0500
TZOFFSETTO:-0400
TZNAME:EDT
DTSTART:20230312T070000
END:DAYLIGHT
BEGIN:STANDARD
TZOFFSETFROM:-0400
TZOFFSETTO:-0500
TZNAME:EST
DTSTART:20231105T060000
END:STANDARD
BEGIN:DAYLIGHT
TZOFFSETFROM:-0500
TZOFFSETTO:-0400
TZNAME:EDT
DTSTART:20240310T070000
END:DAYLIGHT
BEGIN:STANDARD
TZOFFSETFROM:-0400
TZOFFSETTO:-0500
TZNAME:EST
DTSTART:20241103T060000
END:STANDARD
BEGIN:DAYLIGHT
TZOFFSETFROM:-0500
TZOFFSETTO:-0400
TZNAME:EDT
DTSTART:20250309T070000
END:DAYLIGHT
BEGIN:STANDARD
TZOFFSETFROM:-0400
TZOFFSETTO:-0500
TZNAME:EST
DTSTART:20251102T060000
END:STANDARD
END:VTIMEZONE
BEGIN:VEVENT
DTSTART;TZID=America/New_York:20240303T150000
DTEND;TZID=America/New_York:20240303T170000
DTSTAMP:20260423T225732
CREATED:20240213T224832Z
LAST-MODIFIED:20240302T195051Z
UID:33138-1709478000-1709485200@ywcadn.org
SUMMARY:Beyond Newcomers Pickleball Event Sunday\, 3/3/2024
DESCRIPTION:Join us for an afternoon of fun\, food and pickleball. Sunday!! \nCoach Steve O’Connell will provide tips and coaching.  Racquets available for those who need them! \nSnacks and refreshments will be served. Cash bar available.
URL:https://ywcadn.org/event/beyond-newcomers-pickleball-event-sunday-3-3-2024/
LOCATION:Pickleball America\, 140 Atlantic St\, Stamford\, CT\, 06901\, United States
CATEGORIES:Beyond Newcomers Club
ATTACH;FMTTYPE=image/png:https://ywcadn.org/wp-content/uploads/2024/02/3324-BN-Pickleball-1.png
ORGANIZER;CN="YWCA Beyond Newcomers":MAILTO:beyondnewcomers@ywcadn.org
END:VEVENT
BEGIN:VEVENT
DTSTART;TZID=America/New_York:20240307T183000
DTEND;TZID=America/New_York:20240307T220000
DTSTAMP:20260423T225732
CREATED:20240214T153410Z
LAST-MODIFIED:20240229T185846Z
UID:33163-1709836200-1709848800@ywcadn.org
SUMMARY:YWCA All Club Happy Hour 3/7/2024
DESCRIPTION:Join us Thursday\, March 7th at 6:30pm for a YWCA all club Happy Hour. \nLet’s get together!!  Come alone\, bring a friend or a partner and let’s have some fun. \nRegister below.
URL:https://ywcadn.org/event/ywca-all-club-happy-hour-3-7-2024/
LOCATION:Riko’s Darien\, 934 Boston Post Rd\, Darien\, CT\, 06820\, United States
CATEGORIES:Beyond Newcomers Club,Social Event
ATTACH;FMTTYPE=image/png:https://ywcadn.org/wp-content/uploads/2024/02/Rikos-Beyond-Newcomers-Happy-Hour-2.png
ORGANIZER;CN="YWCA Youth Empowerment":MAILTO:tarabgiblin@gmail.com
END:VEVENT
BEGIN:VEVENT
DTSTART;TZID=America/New_York:20240316T110000
DTEND;TZID=America/New_York:20240316T114500
DTSTAMP:20260423T225732
CREATED:20240213T220528Z
LAST-MODIFIED:20240315T171850Z
UID:33129-1710586800-1710589500@ywcadn.org
SUMMARY:Beyond Newcomers BollyFitness Dance Class & Lunch At Coromondel
DESCRIPTION:Join us for a fun Bollyfitness class led by Neha\, a Bollywood dancer and teacher.\n45 minutes of non-stop fitness dance that will have you grooving to Indian Bollywood-inspired music. Bollyfitness is a mix of dance and fitness (like Zumba). Suitable for all fitness lovers. All you need are comfy clothes to move around in\, sneakers (or go barefoot!)\, and a water bottle. Class will be held at the YWCA (2nd floor). \nClass is $25/person. Space is limited to 12 people total. Register now to pay for the dance class. \nAfter class\, we will head to Coromandel\, Darien for a 12:00pm Indian lunch. Prix Fixe lunch available\, pay your own at the restaurant.
URL:https://ywcadn.org/event/beyond-newcomers-bollyfitness-dance-class-lunch-at-coromondel/
LOCATION:YWCA Darien Norwalk\, 49 Old Kings Hwy N\, Darien\, CT\, 06820
CATEGORIES:Beyond Newcomers Club
ATTACH;FMTTYPE=image/png:https://ywcadn.org/wp-content/uploads/2024/02/31624-BN-Bollywood-1.png
ORGANIZER;CN="YWCA Beyond Newcomers":MAILTO:beyondnewcomers@ywcadn.org
END:VEVENT
END:VCALENDAR