BEGIN:VCALENDAR
VERSION:2.0
PRODID:-//YWCA Darien/Norwalk - ECPv6.15.18//NONSGML v1.0//EN
CALSCALE:GREGORIAN
METHOD:PUBLISH
X-WR-CALNAME:YWCA Darien/Norwalk
X-ORIGINAL-URL:https://ywcadn.org
X-WR-CALDESC:Events for YWCA Darien/Norwalk
REFRESH-INTERVAL;VALUE=DURATION:PT1H
X-Robots-Tag:noindex
X-PUBLISHED-TTL:PT1H
BEGIN:VTIMEZONE
TZID:America/New_York
BEGIN:DAYLIGHT
TZOFFSETFROM:-0500
TZOFFSETTO:-0400
TZNAME:EDT
DTSTART:20230312T070000
END:DAYLIGHT
BEGIN:STANDARD
TZOFFSETFROM:-0400
TZOFFSETTO:-0500
TZNAME:EST
DTSTART:20231105T060000
END:STANDARD
BEGIN:DAYLIGHT
TZOFFSETFROM:-0500
TZOFFSETTO:-0400
TZNAME:EDT
DTSTART:20240310T070000
END:DAYLIGHT
BEGIN:STANDARD
TZOFFSETFROM:-0400
TZOFFSETTO:-0500
TZNAME:EST
DTSTART:20241103T060000
END:STANDARD
BEGIN:DAYLIGHT
TZOFFSETFROM:-0500
TZOFFSETTO:-0400
TZNAME:EDT
DTSTART:20250309T070000
END:DAYLIGHT
BEGIN:STANDARD
TZOFFSETFROM:-0400
TZOFFSETTO:-0500
TZNAME:EST
DTSTART:20251102T060000
END:STANDARD
END:VTIMEZONE
BEGIN:VEVENT
DTSTART;TZID=America/New_York:20240207T183000
DTEND;TZID=America/New_York:20240207T220000
DTSTAMP:20260424T003832
CREATED:20240130T172159Z
LAST-MODIFIED:20240130T172407Z
UID:32453-1707330600-1707343200@ywcadn.org
SUMMARY:Beyond Newcomers Happy Hour 2/7/2024
DESCRIPTION:Join us Wednesday February 7th at 6:30pm for the first Beyond Newcomer happy hour of 2024.\nCome for a little or stay a while. We look forward to seeing you.\nRegister below.
URL:https://ywcadn.org/event/beyond-newcomers-happy-hour/
LOCATION:Molto Darien\, 102 Heights Rd\, Darien\, Darien\, 06820
CATEGORIES:Beyond Newcomers Club
ATTACH;FMTTYPE=image/png:https://ywcadn.org/wp-content/uploads/2024/01/Beyond-Newcomers-Happy-Hour.png
ORGANIZER;CN="YWCA Beyond Newcomers":MAILTO:beyondnewcomers@ywcadn.org
END:VEVENT
END:VCALENDAR