BEGIN:VCALENDAR
VERSION:2.0
PRODID:-//YWCA Darien/Norwalk - ECPv6.15.18//NONSGML v1.0//EN
CALSCALE:GREGORIAN
METHOD:PUBLISH
X-ORIGINAL-URL:https://ywcadn.org
X-WR-CALDESC:Events for YWCA Darien/Norwalk
REFRESH-INTERVAL;VALUE=DURATION:PT1H
X-Robots-Tag:noindex
X-PUBLISHED-TTL:PT1H
BEGIN:VTIMEZONE
TZID:America/New_York
BEGIN:DAYLIGHT
TZOFFSETFROM:-0500
TZOFFSETTO:-0400
TZNAME:EDT
DTSTART:20220313T070000
END:DAYLIGHT
BEGIN:STANDARD
TZOFFSETFROM:-0400
TZOFFSETTO:-0500
TZNAME:EST
DTSTART:20221106T060000
END:STANDARD
BEGIN:DAYLIGHT
TZOFFSETFROM:-0500
TZOFFSETTO:-0400
TZNAME:EDT
DTSTART:20230312T070000
END:DAYLIGHT
BEGIN:STANDARD
TZOFFSETFROM:-0400
TZOFFSETTO:-0500
TZNAME:EST
DTSTART:20231105T060000
END:STANDARD
BEGIN:DAYLIGHT
TZOFFSETFROM:-0500
TZOFFSETTO:-0400
TZNAME:EDT
DTSTART:20240310T070000
END:DAYLIGHT
BEGIN:STANDARD
TZOFFSETFROM:-0400
TZOFFSETTO:-0500
TZNAME:EST
DTSTART:20241103T060000
END:STANDARD
END:VTIMEZONE
BEGIN:VEVENT
DTSTART;TZID=America/New_York:20231205T180000
DTEND;TZID=America/New_York:20231205T200000
DTSTAMP:20260424T042205
CREATED:20231120T153901Z
LAST-MODIFIED:20231201T210052Z
UID:4748-1701799200-1701806400@ywcadn.org
SUMMARY:Sip & Shop at Rosey's
DESCRIPTION:Caling all Santa’s Elves! Get a head start on holiday shopping at our Sip & Shop party at Everything Is Rosey. A 10% discount will be given on all purchases\, a 10% donation will be made to the YWCA AND all who attend will have the chance to win a $100 Gift Card!  Grab a friend and join us Tuesday\, December 5th 6pm – 8pm.
URL:https://ywcadn.org/event/sip-shop-at-roseys/
LOCATION:Everything Is Rosey\, 15 Corbin Drive\, Darien\, CT\, 06820
CATEGORIES:Beyond Newcomers Club
ATTACH;FMTTYPE=image/png:https://ywcadn.org/wp-content/uploads/2023/11/Nalini-Event-Template-1.png
ORGANIZER;CN="YWCA Beyond Newcomers":MAILTO:beyondnewcomers@ywcadn.org
END:VEVENT
BEGIN:VEVENT
DTSTART;TZID=America/New_York:20231215T190000
DTEND;TZID=America/New_York:20231215T210000
DTSTAMP:20260424T042205
CREATED:20231208T172448Z
LAST-MODIFIED:20231208T174347Z
UID:4837-1702666800-1702674000@ywcadn.org
SUMMARY:Beyond Newcomers Holiday Happy Hour
DESCRIPTION:Let’s get festive!! Join us Friday\, December 15th\, for some holiday cheer.\nOpen to all\, come alone or bring a friend/partner.
URL:https://ywcadn.org/event/beyond-newcomers-holiday-happy-hour/
LOCATION:Ten Twenty Post\, 1020 Post Road\, Darien\, CT\, 06820
CATEGORIES:Beyond Newcomers Club
ATTACH;FMTTYPE=image/png:https://ywcadn.org/wp-content/uploads/2023/12/BN-Holiday-Happy-Hour-NO-Logo.png
ORGANIZER;CN="YWCA Beyond Newcomers":MAILTO:beyondnewcomers@ywcadn.org
END:VEVENT
END:VCALENDAR