BEGIN:VCALENDAR
VERSION:2.0
PRODID:-//YWCA Darien/Norwalk - ECPv6.15.18//NONSGML v1.0//EN
CALSCALE:GREGORIAN
METHOD:PUBLISH
X-ORIGINAL-URL:https://ywcadn.org
X-WR-CALDESC:Events for YWCA Darien/Norwalk
REFRESH-INTERVAL;VALUE=DURATION:PT1H
X-Robots-Tag:noindex
X-PUBLISHED-TTL:PT1H
BEGIN:VTIMEZONE
TZID:America/New_York
BEGIN:DAYLIGHT
TZOFFSETFROM:-0500
TZOFFSETTO:-0400
TZNAME:EDT
DTSTART:20220313T070000
END:DAYLIGHT
BEGIN:STANDARD
TZOFFSETFROM:-0400
TZOFFSETTO:-0500
TZNAME:EST
DTSTART:20221106T060000
END:STANDARD
BEGIN:DAYLIGHT
TZOFFSETFROM:-0500
TZOFFSETTO:-0400
TZNAME:EDT
DTSTART:20230312T070000
END:DAYLIGHT
BEGIN:STANDARD
TZOFFSETFROM:-0400
TZOFFSETTO:-0500
TZNAME:EST
DTSTART:20231105T060000
END:STANDARD
BEGIN:DAYLIGHT
TZOFFSETFROM:-0500
TZOFFSETTO:-0400
TZNAME:EDT
DTSTART:20240310T070000
END:DAYLIGHT
BEGIN:STANDARD
TZOFFSETFROM:-0400
TZOFFSETTO:-0500
TZNAME:EST
DTSTART:20241103T060000
END:STANDARD
END:VTIMEZONE
BEGIN:VEVENT
DTSTART;TZID=America/New_York:20231028T200000
DTEND;TZID=America/New_York:20231028T220000
DTSTAMP:20260424T081427
CREATED:20231020T210616Z
LAST-MODIFIED:20231027T140138Z
UID:4576-1698523200-1698530400@ywcadn.org
SUMMARY:YWCA Beyond Newcomers Ghoulish Gathering
DESCRIPTION:Join us for live music and a wicked good time! Come wearing your Halloween-inspired hat/headpiece. Prizes will be awarded for your creativity. Bring your significant other or come by yourself. Click HERE to sign up and join the fun.
URL:https://ywcadn.org/event/ghoulish-gathering/
LOCATION:The Goose\, 972 Boston Post Rd\, Darien\, CT\, 06820
CATEGORIES:Beyond Newcomers Club
ATTACH;FMTTYPE=image/png:https://ywcadn.org/wp-content/uploads/2023/09/YWCA-Beyond-Newcomers-Event-Header.png
ORGANIZER;CN="YWCA Beyond Newcomers":MAILTO:beyondnewcomers@ywcadn.org
END:VEVENT
END:VCALENDAR