BEGIN:VCALENDAR
VERSION:2.0
PRODID:-//YWCA Darien/Norwalk - ECPv6.15.18//NONSGML v1.0//EN
CALSCALE:GREGORIAN
METHOD:PUBLISH
X-WR-CALNAME:YWCA Darien/Norwalk
X-ORIGINAL-URL:https://ywcadn.org
X-WR-CALDESC:Events for YWCA Darien/Norwalk
REFRESH-INTERVAL;VALUE=DURATION:PT1H
X-Robots-Tag:noindex
X-PUBLISHED-TTL:PT1H
BEGIN:VTIMEZONE
TZID:America/New_York
BEGIN:DAYLIGHT
TZOFFSETFROM:-0500
TZOFFSETTO:-0400
TZNAME:EDT
DTSTART:20250309T070000
END:DAYLIGHT
BEGIN:STANDARD
TZOFFSETFROM:-0400
TZOFFSETTO:-0500
TZNAME:EST
DTSTART:20251102T060000
END:STANDARD
BEGIN:DAYLIGHT
TZOFFSETFROM:-0500
TZOFFSETTO:-0400
TZNAME:EDT
DTSTART:20260308T070000
END:DAYLIGHT
BEGIN:STANDARD
TZOFFSETFROM:-0400
TZOFFSETTO:-0500
TZNAME:EST
DTSTART:20261101T060000
END:STANDARD
BEGIN:DAYLIGHT
TZOFFSETFROM:-0500
TZOFFSETTO:-0400
TZNAME:EDT
DTSTART:20270314T070000
END:DAYLIGHT
BEGIN:STANDARD
TZOFFSETFROM:-0400
TZOFFSETTO:-0500
TZNAME:EST
DTSTART:20271107T060000
END:STANDARD
BEGIN:DAYLIGHT
TZOFFSETFROM:-0500
TZOFFSETTO:-0400
TZNAME:EDT
DTSTART:20280312T070000
END:DAYLIGHT
BEGIN:STANDARD
TZOFFSETFROM:-0400
TZOFFSETTO:-0500
TZNAME:EST
DTSTART:20281105T060000
END:STANDARD
END:VTIMEZONE
BEGIN:VEVENT
DTSTART;VALUE=DATE:20260417
DTEND;VALUE=DATE:20270105
DTSTAMP:20260420T073957
CREATED:20250904T133524Z
LAST-MODIFIED:20260409T151205Z
UID:39710-1776384000-1799107199@ywcadn.org
SUMMARY:Youth Empowerment Committee
DESCRIPTION:Middle & High School Students – Make Change. Build Skills. Lead Today!\nThe YWCA Darien/Norwalk’s Youth Empowerment Committee (YEC) is where young people come together to make a difference in our community. Our YEC meets twice a month to plan upcoming service projects\, connect with peers\, and explore new ways to make an impact. Through hands-on volunteer work\, YEC members are building a stronger\, more compassionate world\, one project at a time. \nIf you have a tween or teen looking to get involved and give back to the community\, this is the perfect opportunity! \nThe Youth Empowerment Committee meets in person every other Wednesday from 6-7pm at the YW. \nJoin the YWCA Youth Empowerment Committee \nMembership is free if you click “Junior Membership” on the Become a Member page at www.ywcadn.org. \n  \n 
URL:https://ywcadn.org/event/youth-empowerment-committee/
LOCATION:YWCA Darien Norwalk\, 49 Old Kings Hwy N\, Darien\, CT\, 06820
CATEGORIES:Youth Empowerment Committee
ATTACH;FMTTYPE=image/png:https://ywcadn.org/wp-content/uploads/2025/09/Youth-Meeting-9.17.25-10.png
ORGANIZER;CN="YWCA Youth Empowerment":MAILTO:tarabgiblin@gmail.com
END:VEVENT
BEGIN:VEVENT
DTSTART;VALUE=DATE:20260417
DTEND;VALUE=DATE:20260502
DTSTAMP:20260420T073957
CREATED:20250908T205456Z
LAST-MODIFIED:20260409T151645Z
UID:39791-1776384000-1777679999@ywcadn.org
SUMMARY:YWCA International Club
DESCRIPTION:If you’re looking for a place to connect\, share\, and grow\, the International Club welcomes you. You must be a YWCA member to join the International Club. If you are not a member\, click here to join the YWCA. Once you register\, we will reach out with more information about the club and upcoming events.  If you have any questions\, please email membership@ywcadn.org.
URL:https://ywcadn.org/event/ywca-international-club/
CATEGORIES:International Club
ATTACH;FMTTYPE=image/png:https://ywcadn.org/wp-content/uploads/2025/09/Upcoming-Events-Instagram-Version-9.27.24-FINAL-Instagram-Post-1-4.png
END:VEVENT
BEGIN:VEVENT
DTSTART;TZID=America/New_York:20260420T183000
DTEND;TZID=America/New_York:20260420T200000
DTSTAMP:20260420T073957
CREATED:20260317T165239Z
LAST-MODIFIED:20260317T172835Z
UID:41618-1776709800-1776715200@ywcadn.org
SUMMARY:Women & Money: A Learning Series (Spring 2026 Cohort)
DESCRIPTION:To register scan the QR code in the image or click HERE.\nWomen & Money: A Learning Series (Spring 2026 Cohort) \nOur latest Economic Empowerment cohort is designed for women in Fairfield County who want to strengthen their financial skills and feel more in control of their money. Whether you’re creating a budget for the first time\, paying down debt\, saving for a big goal\, or starting to explore investing\, this series will give you practical steps and a clear roadmap forward. \nThis program brings together a group of women for four consecutive weekly sessions where participants will gain practical tools and knowledge in key areas of personal finance\, including: \nMoney Basics & Smart Goal Setting — Choosing the right bank accounts and setting clear financial goals \nCredit Confidence & Tackling Debt — Understanding credit scores\, reports\, and strategies to manage or reduce debt \nBudgeting That Works in Real Life — Creating a realistic\, personalized budget you can actually stick to \nInvesting Basics & Your Personal Financial Roadmap — Learning the fundamentals of 401(k)s\, IRAs\, and brokerage accounts while beginning to map out a long-term financial plan. \nThis program is provided at no-cost to participants thanks to the generous donations from our community. This session is brought to you by DR Bank. \nIn-person attendance to required each week to get the most out of the program. \nIf transportation\, childcare\, location\, or scheduling makes it difficult for you to attend\, please reach out to ecoempower@ywcadn.org. 
URL:https://ywcadn.org/event/women-money-a-learning-series-spring-2026-cohort/
LOCATION:HAYVN Coworking\, 320 Boston Post Rd\, Suite 180\, Darien\, CT\, 06820\, United States
CATEGORIES:Community Event,Mission Aligned
ATTACH;FMTTYPE=image/png:https://ywcadn.org/wp-content/uploads/2026/03/Square-Economic-Empowerment-Flyer-1080-x-1080-px.png
END:VEVENT
BEGIN:VEVENT
DTSTART;TZID=America/New_York:20260422T190000
DTEND;TZID=America/New_York:20260422T200000
DTSTAMP:20260420T073957
CREATED:20251202T162925Z
LAST-MODIFIED:20260318T144229Z
UID:40871-1776884400-1776888000@ywcadn.org
SUMMARY:Parent Awareness Presents - Develop Executive Functioning Skills With Kit Savage
DESCRIPTION:
URL:https://ywcadn.org/event/parent-awareness-presents-develop-executive-functioning-skills-with-kit-savage/
LOCATION:Darien Library\, 1441 Post Rd\, Darien\, CT\, 06920
CATEGORIES:Parent Awareness
ATTACH;FMTTYPE=image/png:https://ywcadn.org/wp-content/uploads/2025/12/4-22-26-Kit-Savage-Parent-Awareness.png
ORGANIZER;CN="YWCA Parent Awareness":MAILTO:office@ywcadn.org
END:VEVENT
BEGIN:VEVENT
DTSTART;TZID=America/New_York:20260427T193000
DTEND;TZID=America/New_York:20260427T210000
DTSTAMP:20260420T073957
CREATED:20250917T192623Z
LAST-MODIFIED:20260402T150937Z
UID:39944-1777318200-1777323600@ywcadn.org
SUMMARY:YWCA NOWW Monthly Meeting
DESCRIPTION:Our Network of Working Women (NOWW) series meets once a month and is designed to foster professional growth and personal development. Whether you’re an entrepreneur\, returning to the workforce\, or navigating career transitions\, NOWW is a space to learn\, share\, and support one another. \nThis is a YWCA member event.  Login to RSVP for the Monday\, March 23rd session & save the future dates in your calendar.  Not a member\, Join Today! \n  \nFinal Meeting Date of the Season – Venue will be emailed closer to the event. \n\nMay 18
URL:https://ywcadn.org/event/ywca-noww-monthly-meeting/
LOCATION:Scena Wine Bar & Restaurant\, 1077 Post Rd\, Darien\, Connecticut\, 06820
CATEGORIES:Network of Working Women
ATTACH;FMTTYPE=image/png:https://ywcadn.org/wp-content/uploads/2025/09/2242025-Network-for-Working-Women-9.png
END:VEVENT
BEGIN:VEVENT
DTSTART;TZID=America/New_York:20260429T190000
DTEND;TZID=America/New_York:20260429T203000
DTSTAMP:20260420T073957
CREATED:20260311T145802Z
LAST-MODIFIED:20260413T100048Z
UID:41589-1777489200-1777494600@ywcadn.org
SUMMARY:YWCA Parent Awareness Presents Guy Talk
DESCRIPTION:Guy Talk: What Every Boy Needs to Know About Puberty. \nThis presentation is led by local expert Dr. Todd Palker of New England Pediatrics to help support parents and their children (recommended ages 10-12) in the sometimes awkward conversations around puberty. Dr. Palker will help teach your son about what to expect as they grow. Material is handled in a straightforward and entertaining manner. This is not a “sex” talk\, but a candid discussion about the physical and emotional changes that occur during puberty. \nNote: This program is intended for caregivers to attend with boys who are beginning to show signs of puberty (approx. ages 10-12).
URL:https://ywcadn.org/event/ywca-parent-awareness-presents-guy-talk-2/
LOCATION:Tokeneke Elementary School\, 7 Old Farm Road\, Darien\, 06820\, United States
CATEGORIES:Parent Awareness
ATTACH;FMTTYPE=image/png:https://ywcadn.org/wp-content/uploads/2026/03/2026-Guy-Talk-5.png
ORGANIZER;CN="YWCA Parent Awareness":MAILTO:office@ywcadn.org
END:VEVENT
BEGIN:VEVENT
DTSTART;TZID=America/New_York:20260506T190000
DTEND;TZID=America/New_York:20260506T203000
DTSTAMP:20260420T073957
CREATED:20260226T170739Z
LAST-MODIFIED:20260413T095249Z
UID:41428-1778094000-1778099400@ywcadn.org
SUMMARY:2026 YWCA Parent Awareness Presents Girl Talk
DESCRIPTION:Girl Talk: What Every Girl Needs To Know About Puberty  \nGirls approaching puberty and their caregivers are invited to join Diane Frankel-Gramelis from Yale School of Public Health for a straightforward and entertaining discussion about the physical and emotional changes to expect during puberty This is not a sex talk. It’s a starting point for further discussions about a girl’s changing body. \nNote: This program is intended for caregivers to attend with girls who are beginning to show signs of puberty (approx ages 10-12). \nOnly parents know if their child is ready for this candid talk\, which includes visuals and covers topics such as: BO—what’s that smell?; Breast buds and development-what are we training with a bra anyway?; What exactly do I look like down there?; What about discharge? What’s that in my underwear?; and basic anatomy and periods.
URL:https://ywcadn.org/event/2026-ywca-parent-awareness-presents-girl-talk/
LOCATION:Tokeneke Elementary School\, 7 Old Farm Road\, Darien\, 06820\, United States
CATEGORIES:Parent Awareness
ATTACH;FMTTYPE=image/png:https://ywcadn.org/wp-content/uploads/2026/02/2026-GIRL-TALK-4.png
ORGANIZER;CN="YWCA Parent Awareness":MAILTO:office@ywcadn.org
END:VEVENT
BEGIN:VEVENT
DTSTART;TZID=America/New_York:20260507T170000
DTEND;TZID=America/New_York:20260507T210000
DTSTAMP:20260420T073957
CREATED:20260326T160811Z
LAST-MODIFIED:20260409T144240Z
UID:41759-1778173200-1778187600@ywcadn.org
SUMMARY:YWCA Spring Happy Hour & Shopping
DESCRIPTION:Spring is here—longer days\, lighter evenings\, and the perfect excuse to get together. \nStart with shopping at Magnolia Darien\, then join us at Lykos Taverna for light bites and your first drink\, courtesy of the YWCA. \nAll at Darien Commons. \nRegister by May 6 to receive your 15% shopping discount. If you’re unable to shop between 5–7 PM\, Magnolia Darien will honor the discount during regular hours on Thursday\, May 7.
URL:https://ywcadn.org/event/ywca-spring-happy-hour-shopping/
LOCATION:Darien Commons\, 102 Heights Rd\, Darien\, 06820\, United States
CATEGORIES:Beyond Newcomers Club,International Club,Network of Working Women,Newcomers Club,YWCA All
ATTACH;FMTTYPE=image/png:https://ywcadn.org/wp-content/uploads/2026/03/5-7-26-YWCA-Happy-Hour-Lykos-3.png
END:VEVENT
BEGIN:VEVENT
DTSTART;TZID=America/New_York:20260605T113000
DTEND;TZID=America/New_York:20260605T140000
DTSTAMP:20260420T073957
CREATED:20260224T151301Z
LAST-MODIFIED:20260407T114603Z
UID:41296-1780659000-1780668000@ywcadn.org
SUMMARY:Women of Distinction 2026
DESCRIPTION:Thank you for supporting this inspiring day of honoring local women making a difference! We look forward to celebrating with you on Friday\, June 5th\, 11:30 at Shorehaven Golf Club.
URL:https://ywcadn.org/event/women-of-distinction-2026/
LOCATION:Shorehaven Golf Club\, 14 Canfield Avenue\, Norwalk\, 06855\, United States
CATEGORIES:Fundraiser
ATTACH;FMTTYPE=image/png:https://ywcadn.org/wp-content/uploads/2026/02/WOD-2026-SAVE-THE-DATE-Invite-4.png
END:VEVENT
END:VCALENDAR